BEGIN:VCALENDAR
VERSION:2.0
PRODID:-//SportPlan//Event Calendar//EN
CALSCALE:GREGORIAN
BEGIN:VEVENT
UID:80fe3484-c706-453a-b3d1-6fd39297a0ba@sportplan.local
DTSTAMP:20260425T164413Z
DTSTART;VALUE=DATE:20260307
DTEND;VALUE=DATE:20260308
SUMMARY:Trail Natura Rivas Vaciamadrid - Iniciacion 7K
DESCRIPTION:Trail Natura Rivas Vaciamadrid - Iniciacion 7K is part of the official Trail Natura Rivas Vaciamadrid trail-running programme in Rivas Vaciamadrid. The official event site presents the race family as an amateur-enterable off-road event with multiple route options and volunteer-supported organization in the Parque Regional setting near Madrid.
LOCATION:Rivas Vaciamadrid\, Madrid\, Comunidad de Madrid
URL:https://sportplan.vercel.app/eu/events/trail-natura-rivas-vaciamadrid-iniciacion-7k-rivas-vaciamadrid-2026-03-01-7k
END:VEVENT
END:VCALENDAR
