BEGIN:VCALENDAR
VERSION:2.0
PRODID:-//SportPlan//Event Calendar//EN
CALSCALE:GREGORIAN
BEGIN:VEVENT
UID:773b346a-0f4e-458a-a068-e7f294df889b@sportplan.local
DTSTAMP:20260425T033655Z
DTSTART;VALUE=DATE:20260627
DTEND;VALUE=DATE:20260629
SUMMARY:Tour De Machakos - Stage Race
DESCRIPTION:The official Kenya Cycling Race Series event page lists Tour De Machakos - Stage Race from 27 to 28 June 2026 in Machakos\, Kenya as an amateur-enterable stage race.
LOCATION:Machakos
URL:https://sportplan.vercel.app/eu/events/tour-de-machakos-stage-race-machakos-2026-06-27
END:VEVENT
END:VCALENDAR
