BEGIN:VCALENDAR
VERSION:2.0
PRODID:-//SportPlan//Event Calendar//EN
CALSCALE:GREGORIAN
BEGIN:VEVENT
UID:f44f730d-910c-493f-a56e-557d08c2c648@sportplan.local
DTSTAMP:20260425T015150Z
DTSTART;VALUE=DATE:20260509
DTEND;VALUE=DATE:20260510
SUMMARY:Sun City Ultra
DESCRIPTION:The official Triathlon South Africa event page lists Sun City Ultra on Saturday 9 May 2026 at Sun City Resort in North West province. Verified on the official Triathlon South Africa event page. Readable event details show date 'Saturday\, 9 May'\, location 'Sun City Resort'\, province 'North West'\, and organizer 'Delta Sport'. Duplicate check found no 2026 row matching this title or official URL. No official public registration URL or event-specific image was exposed in this pass.
LOCATION:Sun City Resort
URL:https://sportplan.vercel.app/eu/events/sun-city-ultra-sun-city-2026-05-09
END:VEVENT
END:VCALENDAR
