BEGIN:VCALENDAR
VERSION:2.0
PRODID:-//SportPlan//Event Calendar//EN
CALSCALE:GREGORIAN
BEGIN:VEVENT
UID:d60d9620-7aae-45fa-922c-7a68d0a82dd1@sportplan.local
DTSTAMP:20260425T000554Z
DTSTART;VALUE=DATE:20260425
DTEND;VALUE=DATE:20260426
SUMMARY:Sportive Kinross
DESCRIPTION:Sportive Kinross uses sportive-kinross.co.uk as its official participant-facing website. The row now includes the event’s official site header artwork from the organizer-owned domain\, which is the strongest safely extractable image available in this runtime.
LOCATION:Milnathort
URL:https://sportplan.vercel.app/eu/events/sportive-kinross-milnathort-2026-04-25
END:VEVENT
END:VCALENDAR
