BEGIN:VCALENDAR
VERSION:2.0
PRODID:-//SportPlan//Event Calendar//EN
CALSCALE:GREGORIAN
BEGIN:VEVENT
UID:441ad692-03f1-4c36-a450-a03f6cd0f5c6@sportplan.local
DTSTAMP:20260425T033418Z
DTSTART;VALUE=DATE:20260501
DTEND;VALUE=DATE:20260504
SUMMARY:Sokoke MTB
DESCRIPTION:The official Kenya Cycling Race Series event page lists Sokoke MTB from 1 to 3 May 2026 in Watamu\, Kenya\, organized by Safari Race Series Powered by LOOP\, with official event branding and amateur-enterable race details.
LOCATION:Watamu
URL:https://sportplan.vercel.app/eu/events/sokoke-mtb-watamu-2026-05-01
END:VEVENT
END:VCALENDAR
