BEGIN:VCALENDAR
VERSION:2.0
PRODID:-//SportPlan//Event Calendar//EN
CALSCALE:GREGORIAN
BEGIN:VEVENT
UID:54ccf890-7df8-4455-98c0-f8efe2c80ce6@sportplan.local
DTSTAMP:20260425T015346Z
DTSTART;VALUE=DATE:20260628
DTEND;VALUE=DATE:20260629
SUMMARY:Soca Outdoor Festival
DESCRIPTION:Soča Outdoor Festival 2026 is an official outdoor festival in Tolmin\, Slovenia on 26 to 28 June 2026. The organizer website describes a participant-facing programme with trail races from 5 km to 50 km\, a vertical run\, and hiking activities in the Soča Valley.
LOCATION:Eslovenia
URL:https://sportplan.vercel.app/eu/events/soca-outdoor-festival-eslovenia-2026-06-28-50k
END:VEVENT
END:VCALENDAR
