BEGIN:VCALENDAR
VERSION:2.0
PRODID:-//SportPlan//Event Calendar//EN
CALSCALE:GREGORIAN
BEGIN:VEVENT
UID:31a895f3-ea77-4078-9a52-2a2a5c677ba3@sportplan.local
DTSTAMP:20260425T015313Z
DTSTART;VALUE=DATE:20260627
DTEND;VALUE=DATE:20260628
SUMMARY:So?A Outdoor Festival 2025
DESCRIPTION:I Feel Slovenia Soča Outdoor Festival 2026 is the official trail-running and outdoor weekend in Tolmin\, Slovenia from 26 to 28 June 2026. The official site presents mountain and trail races from 5 km to 50 km plus a vertical run and hiking programme around the Soča and Tolminka river confluence.
LOCATION:Eslovenia
URL:https://sportplan.vercel.app/eu/events/so-a-outdoor-festival-2025-eslovenia-2026-06-27-50k
END:VEVENT
END:VCALENDAR
