BEGIN:VCALENDAR
VERSION:2.0
PRODID:-//SportPlan//Event Calendar//EN
CALSCALE:GREGORIAN
BEGIN:VEVENT
UID:62662f54-4247-4c1f-a95a-7be12a2d7616@sportplan.local
DTSTAMP:20260425T001229Z
DTSTART;VALUE=DATE:20260501
DTEND;VALUE=DATE:20260502
SUMMARY:Senders de Can Costa - Express
DESCRIPTION:Cursa de muntanya Senders de Can Costa a l’entorn de les muntanyes del Baix Llobregat\, amb modalitats de 10 km i 18 km.
LOCATION:Sant Vicenç dels Horts\, Barcelona\, Cataluña
URL:https://sportplan.vercel.app/eu/events/senders-de-can-costa-express-sant-vicenc-dels-horts-2026-05-01-13k
END:VEVENT
END:VCALENDAR
