BEGIN:VCALENDAR
VERSION:2.0
PRODID:-//SportPlan//Event Calendar//EN
CALSCALE:GREGORIAN
BEGIN:VEVENT
UID:a9d59c53-ac7e-43bc-a292-7cf6052e2947@sportplan.local
DTSTAMP:20260425T014953Z
DTSTART;VALUE=DATE:20260711
DTEND;VALUE=DATE:20260712
SUMMARY:SA Duathlon Championship
DESCRIPTION:The official Triathlon South Africa event page lists the SA Duathlon Championship on Saturday 11 July 2026 at Hoekwil School near Wilderness. Verified on the official Triathlon South Africa event page. Readable event details show date 'Saturday\, 11 July'\, location 'Hoekwil School near Wilderness'\, province/region 'EDEN'\, organizer 'Eden Triathlon'\, and duathlon-related categories. Duplicate check found no 2026 row matching this title or official URL. No official public registration URL or event-specific image was surfaced in this pass. Geocoded conservatively to Wilderness.
LOCATION:Hoekwil School near Wilderness
URL:https://sportplan.vercel.app/eu/events/sa-duathlon-championship-wilderness-2026-07-11
END:VEVENT
END:VCALENDAR
