BEGIN:VCALENDAR
VERSION:2.0
PRODID:-//SportPlan//Event Calendar//EN
CALSCALE:GREGORIAN
BEGIN:VEVENT
UID:0eb3cef0-57e3-48ab-924e-5b8c648b7dc3@sportplan.local
DTSTAMP:20260425T000646Z
DTSTART;VALUE=DATE:20260503
DTEND;VALUE=DATE:20260504
SUMMARY:Run Bike Run Oldenzaal
DESCRIPTION:Run Bike Run Oldenzaal is a Dutch amateur-enterable duathlon on 2026-05-03 in Oldenzaal\, Overijssel\, Netherlands. The official Run Bike Run Series 2026 calendar lists the event with 2.5 - 20 - 5 and stayer\, plus a live registration link.
LOCATION:Oldenzaal\, Overijssel\, Netherlands
URL:https://sportplan.vercel.app/eu/events/run-bike-run-oldenzaal-oldenzaal-2026-05-03
END:VEVENT
END:VCALENDAR
