BEGIN:VCALENDAR
VERSION:2.0
PRODID:-//SportPlan//Event Calendar//EN
CALSCALE:GREGORIAN
BEGIN:VEVENT
UID:ec70b14b-882f-4df6-90de-d2099bf22adc@sportplan.local
DTSTAMP:20260425T000330Z
DTSTART;VALUE=DATE:20260829
DTEND;VALUE=DATE:20260830
SUMMARY:Run Bike Run Borne
DESCRIPTION:Run Bike Run Borne is a Dutch amateur-enterable duathlon on 2026-08-29 in Borne\, Overijssel\, Netherlands. The official Run Bike Run Series 2026 calendar lists the event with 6.8 - 30 - 4.9 and non-stayer\, plus a live registration link.
LOCATION:Borne\, Overijssel\, Netherlands
URL:https://sportplan.vercel.app/eu/events/run-bike-run-borne-borne-2026-08-29
END:VEVENT
END:VCALENDAR
