BEGIN:VCALENDAR
VERSION:2.0
PRODID:-//SportPlan//Event Calendar//EN
CALSCALE:GREGORIAN
BEGIN:VEVENT
UID:4c788661-ede0-44ed-bd39-6fe2061d9063@sportplan.local
DTSTAMP:20260425T001014Z
DTSTART;VALUE=DATE:20260308
DTEND;VALUE=DATE:20260309
SUMMARY:Roca Plana
DESCRIPTION:The official La Maasaiada site presents Roca Plana as one of the uphill/vertical race options within the Campins trail-running weekend\, alongside other Montseny ascent formats on the same event domain.
LOCATION:Campins
URL:https://sportplan.vercel.app/eu/events/roca-plana-campins-2026-03-08-12k
END:VEVENT
END:VCALENDAR
