BEGIN:VCALENDAR
VERSION:2.0
PRODID:-//SportPlan//Event Calendar//EN
CALSCALE:GREGORIAN
BEGIN:VEVENT
UID:00aa9621-2014-46d8-9995-06dbfd3f7ef7@sportplan.local
DTSTAMP:20260425T014827Z
DTSTART;VALUE=DATE:20260503
DTEND;VALUE=DATE:20260504
SUMMARY:R2H Triathlon
DESCRIPTION:Triathlon South Africa's official event page lists R2H Triathlon on Sunday 3 May 2026 in Hermanus\, Western Cape. Verified on the official Triathlon South Africa event page. Readable event details show date 'Sunday\, 3 May'\, location 'Hermanus'\, province 'Western Cape'\, and organizer 'Electricink'. Duplicate check found no 2026 row matching this title or official URL. No official public registration URL or event-specific image was surfaced in this pass.
LOCATION:Hermanus
URL:https://sportplan.vercel.app/eu/events/r2h-triathlon-hermanus-2026-05-03
END:VEVENT
END:VCALENDAR
