BEGIN:VCALENDAR
VERSION:2.0
PRODID:-//SportPlan//Event Calendar//EN
CALSCALE:GREGORIAN
BEGIN:VEVENT
UID:48dd392f-b75a-4de1-897f-6d45be4283d4@sportplan.local
DTSTAMP:20260425T180744Z
DTSTART;VALUE=DATE:20261115
DTEND;VALUE=DATE:20261116
SUMMARY:Ponle Freno Madrid 2026
DESCRIPTION:
LOCATION:Madrid
URL:https://sportplan.vercel.app/eu/events/ponle-freno-madrid-2026
END:VEVENT
END:VCALENDAR
