BEGIN:VCALENDAR
VERSION:2.0
PRODID:-//SportPlan//Event Calendar//EN
CALSCALE:GREGORIAN
BEGIN:VEVENT
UID:37bb0c44-e80f-4ef7-bdea-cac2d6ccf298@sportplan.local
DTSTAMP:20260425T014759Z
DTSTART;VALUE=DATE:20260919
DTEND;VALUE=DATE:20260920
SUMMARY:Oktoberfest Run Nitra
DESCRIPTION:discovered via Brave web_search on direct World's Marathons Slovakia event pages after queue count review showed Slovakia was still low coverage
LOCATION:Nitra\, Slovakia
URL:https://sportplan.vercel.app/eu/events/oktoberfest-run-nitra-2026-09-19
END:VEVENT
END:VCALENDAR
