BEGIN:VCALENDAR
VERSION:2.0
PRODID:-//SportPlan//Event Calendar//EN
CALSCALE:GREGORIAN
BEGIN:VEVENT
UID:55d6f8eb-c124-4a68-a3d0-fc2ad6e824f7@sportplan.local
DTSTAMP:20260425T001737Z
DTSTART;VALUE=DATE:20260425
DTEND;VALUE=DATE:20260426
SUMMARY:OK Arona kauss 2026
DESCRIPTION:Official OK Arona organizer site announces OK Arona kauss 2026 on 25-26 April 2026 around Rempi and links the Latvian Orienteering Federation start lists\, bulletins\, and registration flow for the amateur-enterable two-stage weekend.
LOCATION:Rempi
URL:https://sportplan.vercel.app/eu/events/ok-arona-kauss-rempi-2026-04-25
END:VEVENT
END:VCALENDAR
