BEGIN:VCALENDAR
VERSION:2.0
PRODID:-//SportPlan//Event Calendar//EN
CALSCALE:GREGORIAN
BEGIN:VEVENT
UID:bd77ec31-07a0-46fc-8e94-9a8105416e7f@sportplan.local
DTSTAMP:20260425T034747Z
DTSTART;VALUE=DATE:20261121
DTEND;VALUE=DATE:20261123
SUMMARY:OCEANMAN Phang-Nga Thailand 2026
DESCRIPTION:OCEANMAN Phang-Nga Thailand is an amateur open-water swimming weekend on 21 and 22 November 2026 with 10 km\, 5 km\, 2 km\, kids\, and team formats for everyday swimmers.
LOCATION:Phang-Nga
URL:https://sportplan.vercel.app/eu/events/oceanman-phang-nga-thailand-2026-2026-11-21
END:VEVENT
END:VCALENDAR
