BEGIN:VCALENDAR
VERSION:2.0
PRODID:-//SportPlan//Event Calendar//EN
CALSCALE:GREGORIAN
BEGIN:VEVENT
UID:8f072551-0a7c-42cd-ac60-40f9dd44e3cb@sportplan.local
DTSTAMP:20260425T000519Z
DTSTART;VALUE=DATE:20260524
DTEND;VALUE=DATE:20260525
SUMMARY:Oak Bay Half Marathon
DESCRIPTION:
LOCATION:Victoria
URL:https://sportplan.vercel.app/eu/events/oak-bay-half-marathon-victoria-2026-05-24
END:VEVENT
END:VCALENDAR
