BEGIN:VCALENDAR
VERSION:2.0
PRODID:-//SportPlan//Event Calendar//EN
CALSCALE:GREGORIAN
BEGIN:VEVENT
UID:5a70746f-81fe-4990-b2f6-6625538b7fb5@sportplan.local
DTSTAMP:20260425T015335Z
DTSTART;VALUE=DATE:20260816
DTEND;VALUE=DATE:20260817
SUMMARY:Mistrzostwa Polski w Triathlonie Białystok / MP AG / MP Paratriathlonie / MP Aquabike AG / PP Triathlon / Elemental Tri Series
DESCRIPTION:Official federation calendar card lists distances: Standard 1\,5-40-10 z draftingiem (elita/open\, u23) - MP\; Standard 1\,5-40-10 bez draftingu (age-group\, sztafety) - MP AG\; Standard 1\,5-40 bez draftingu (age-group) - MP Aquabike AG\; Sprint 0\,75-20-5 bez draftingu (paratriathlony)\; Sprint 0\,75-20-5 z draftingiem (age-group) - Elemental\; PP Supersprint 0\,4-10-2\,5 (junior\, junior młodszy\, młodzik)\; Elemental Kids (aquathlon\, biegi - żak\, dzieci)
LOCATION:Białystok
URL:https://sportplan.vercel.app/eu/events/mistrzostwa-polski-w-triathlonie-bia-ystok-mp-ag-mp-paratriathlonie-mp-aquabike-ag-pp-triathlon-elemental-tri-series-bia-ystok-2026-08-16
END:VEVENT
END:VCALENDAR
