BEGIN:VCALENDAR
VERSION:2.0
PRODID:-//SportPlan//Event Calendar//EN
CALSCALE:GREGORIAN
BEGIN:VEVENT
UID:6562f66d-c284-42ac-a23d-33320ba64af3@sportplan.local
DTSTAMP:20260425T000245Z
DTSTART;VALUE=DATE:20260425
DTEND;VALUE=DATE:20260426
SUMMARY:Millevaches Monédières Raidlight Trail
DESCRIPTION:Millevaches Monédières Raidlight Trail a lieu à Treignac le 25 avril 2026. C’est un rendez-vous parfait pour profiter d’une belle journée de course\, avec un parcours de 55 km\, idéal autant pour viser un chrono que pour profiter de l’ambiance locale. Que vous visiez la performance ou une expérience plus conviviale\, l’événement promet une ambiance motivante du début à la fin.
LOCATION:Treignac
URL:https://sportplan.vercel.app/eu/events/millevaches-monedieres-raidlight-trail-treignac-2026-04-25
END:VEVENT
END:VCALENDAR
