BEGIN:VCALENDAR
VERSION:2.0
PRODID:-//SportPlan//Event Calendar//EN
CALSCALE:GREGORIAN
BEGIN:VEVENT
UID:fa2d191b-81dc-4843-90af-f4748e7a39cd@sportplan.local
DTSTAMP:20260425T014531Z
DTSTART;VALUE=DATE:20260510
DTEND;VALUE=DATE:20260511
SUMMARY:Messinia Challenge
DESCRIPTION:The official Messinia Challenge site confirms the event weekend on 8-10 May 2026 at Costa Navarino\, replacing a weaker aggregator-only event page with the organizer-owned canonical website.
LOCATION:Greece
URL:https://sportplan.vercel.app/eu/events/messinia-challenge-2026-05-10
END:VEVENT
END:VCALENDAR
