BEGIN:VCALENDAR
VERSION:2.0
PRODID:-//SportPlan//Event Calendar//EN
CALSCALE:GREGORIAN
BEGIN:VEVENT
UID:592e4eee-a8b8-45ac-8118-1e71018e6d7a@sportplan.local
DTSTAMP:20260425T015208Z
DTSTART;VALUE=DATE:20261004
DTEND;VALUE=DATE:20261005
SUMMARY:Medzinárodný maratón mieru (Košice Peace Marathon)
DESCRIPTION:Official kosicemarathon.com page\; one of Europe's oldest marathons (est. 1924)\; Košice October 2026\; 21st edition of modern era
LOCATION:Košice\, Slovakia
URL:https://sportplan.vercel.app/eu/events/medzinarodny-maraton-mieru-kosice-peace-marathon-2026-10-04
END:VEVENT
END:VCALENDAR
