BEGIN:VCALENDAR
VERSION:2.0
PRODID:-//SportPlan//Event Calendar//EN
CALSCALE:GREGORIAN
BEGIN:VEVENT
UID:604a7be8-4890-4bef-8e9b-7b94c2098ec9@sportplan.local
DTSTAMP:20260425T001336Z
DTSTART;VALUE=DATE:20260503
DTEND;VALUE=DATE:20260504
SUMMARY:MEDIO FONDO ALCAMO GIBELLINA MASTER
DESCRIPTION:FCI detail page 182090 lists Amatoriale\, competitive\, road race with categorie ammesse 'tesserati FCI aperta agli enti come da convenzione con FCI'. Exact-title and official-URL Supabase checks returned no matches.
LOCATION:Alcamo (TP)
URL:https://sportplan.vercel.app/eu/events/medio-fondo-alcamo-gibellina-master-alcamo-2026-05-03
END:VEVENT
END:VCALENDAR
