BEGIN:VCALENDAR
VERSION:2.0
PRODID:-//SportPlan//Event Calendar//EN
CALSCALE:GREGORIAN
BEGIN:VEVENT
UID:a5740e5d-34b3-4b45-808a-eadcd779d760@sportplan.local
DTSTAMP:20260424T211710Z
DTSTART;VALUE=DATE:20260424
DTEND;VALUE=DATE:20260427
SUMMARY:Marathon de Cheverny et Trail des Châteaux de la Loire
DESCRIPTION:Marathon de Cheverny & Trail du Pays des Châteaux\, du marathon aux courses enfants\, en passant par les trails\, avec des distances pour tous les âges et tous les niveaux\, au cœur des châteaux de la Loire.
LOCATION:Cheverny
URL:https://sportplan.vercel.app/eu/events/marathon-de-cheverny-et-trail-des-chateaux-de-la-loire-cheverny-2026-04-24
END:VEVENT
END:VCALENDAR
