BEGIN:VCALENDAR
VERSION:2.0
PRODID:-//SportPlan//Event Calendar//EN
CALSCALE:GREGORIAN
BEGIN:VEVENT
UID:5997c5ca-d01c-4720-9c81-f01eb71b4f7c@sportplan.local
DTSTAMP:20260425T015210Z
DTSTART;VALUE=DATE:20260906
DTEND;VALUE=DATE:20260907
SUMMARY:Maratón de Medellín 2026
DESCRIPTION:Official site for Maratón Medellín Sistecrédito 2026\, scheduled for 6 September 2026 with 42K\, 21K and 10K race options in Medellín plus a 5K pre-event on 5 September.
LOCATION:Medellín\, Antioquia
URL:https://sportplan.vercel.app/eu/events/marat-n-de-medell-n-2026-medell-n-2026-09-06
END:VEVENT
END:VCALENDAR
