BEGIN:VCALENDAR
VERSION:2.0
PRODID:-//SportPlan//Event Calendar//EN
CALSCALE:GREGORIAN
BEGIN:VEVENT
UID:52fac42a-1b83-454f-8f4a-05cf9788c012@sportplan.local
DTSTAMP:20260425T034850Z
DTSTART;VALUE=DATE:20260919
DTEND;VALUE=DATE:20260920
SUMMARY:Loma Run on The Beach 2026
DESCRIPTION:Official Thai.Run registration page for Loma Run on The Beach 2026 in Chon Buri.
LOCATION:Chon Buri\, Chon Buri
URL:https://sportplan.vercel.app/eu/events/loma-run-on-the-beach-2026-chon-buri-2026-09-19
END:VEVENT
END:VCALENDAR
