BEGIN:VCALENDAR
VERSION:2.0
PRODID:-//SportPlan//Event Calendar//EN
CALSCALE:GREGORIAN
BEGIN:VEVENT
UID:de27d481-caac-4d50-b724-57d82ddfae1d@sportplan.local
DTSTAMP:20260425T015314Z
DTSTART;VALUE=DATE:20260628
DTEND;VALUE=DATE:20260629
SUMMARY:Lietuvos standartinės distancijos triatlono čempionatas / Trakų triatlonas 2026
DESCRIPTION:The official 2026 Lithuanian Triathlon Federation calendar lists the Lithuanian standard-distance triathlon championship and Trakai triathlon on 28 June 2026 in Trakai. The calendar includes Olympic\, sprint\, and super sprint race formats with open championship participation.
LOCATION:Trakai\, Lithuania
URL:https://sportplan.vercel.app/eu/events/lietuvos-standartines-distancijos-triatlono-cempionatas-traku-triatlonas-2026-06-28
END:VEVENT
END:VCALENDAR
