BEGIN:VCALENDAR
VERSION:2.0
PRODID:-//SportPlan//Event Calendar//EN
CALSCALE:GREGORIAN
BEGIN:VEVENT
UID:42aa7de4-33f5-4a40-9874-73c70bb76dc0@sportplan.local
DTSTAMP:20260425T015313Z
DTSTART;VALUE=DATE:20260517
DTEND;VALUE=DATE:20260518
SUMMARY:Lietuvos sprinto distancijos (baseino) triatlono čempionatas (B.Abramaičio taurė) 2026
DESCRIPTION:Official Lithuanian Triathlon Federation event page for the 2026 B. Abramaičio triatlono taurė\, which the federation calendar schedules on 17 May 2026 in Panevėžys as the national sprint-distance pool triathlon championship.
LOCATION:Panevėžys
URL:https://sportplan.vercel.app/eu/events/lietuvos-sprinto-distancijos-baseino-triatlono-cempionatas-b-abramaicio-taure-2026-2026-05-17
END:VEVENT
END:VCALENDAR
