BEGIN:VCALENDAR
VERSION:2.0
PRODID:-//SportPlan//Event Calendar//EN
CALSCALE:GREGORIAN
BEGIN:VEVENT
UID:094e0d2a-d0ac-4aa1-a3da-cc8817c00128@sportplan.local
DTSTAMP:20260425T001443Z
DTSTART;VALUE=DATE:20260425
DTEND;VALUE=DATE:20260426
SUMMARY:Les Entrailles du Baugeois
DESCRIPTION:Les Entrailles du Baugeois a lieu à Baugé-en-Anjou le 25 avril 2026. C’est un rendez-vous parfait pour profiter d’une belle journée de course\, avec une belle ambiance de course et un parcours adapté à différents profils de coureurs. Que vous visiez la performance ou une expérience plus conviviale\, l’événement promet une ambiance motivante du début à la fin.
LOCATION:Baugé-en-Anjou
URL:https://sportplan.vercel.app/eu/events/les-entrailles-du-baugeois-bauge-en-anjou-2026-04-25
END:VEVENT
END:VCALENDAR
