BEGIN:VCALENDAR
VERSION:2.0
PRODID:-//SportPlan//Event Calendar//EN
CALSCALE:GREGORIAN
BEGIN:VEVENT
UID:998a7c64-e83a-4a7c-910f-3977900ca456@sportplan.local
DTSTAMP:20260425T000513Z
DTSTART;VALUE=DATE:20260425
DTEND;VALUE=DATE:20260427
SUMMARY:Le Trail des 3 Pucelles
DESCRIPTION:Le Trail des 3 Pucelles a lieu le 25 de avril de 2026 à Seyssins. C'est un rendez-vous intéressant pour les participants à la recherche d'un événement bien organisé dans un cadre agréable. Le parcours couvre environ 23 km. Consultez les informations officielles de l'organisateur pour les horaires\, le retrait des dossards et les détails logistiques.
LOCATION:Seyssins
URL:https://sportplan.vercel.app/eu/events/le-trail-des-3-pucelles-seyssins-2026-04-25
END:VEVENT
END:VCALENDAR
