BEGIN:VCALENDAR
VERSION:2.0
PRODID:-//SportPlan//Event Calendar//EN
CALSCALE:GREGORIAN
BEGIN:VEVENT
UID:032a1649-a9d0-4fe8-ab39-e6de1c43cf0d@sportplan.local
DTSTAMP:20260425T015312Z
DTSTART;VALUE=DATE:20260822
DTEND;VALUE=DATE:20260824
SUMMARY:L'Étape Slovakia by Tour de France 2026
DESCRIPTION:L'Étape Slovakia by Tour de France 2026 is an amateur road-cycling weekend in Bratislava\, Slovakia. The official event page presents Bratislava as the host city\, with the start at EUROVEA Bratislava and the finish on Kamzík\, plus a family day on 22 August 2026 and the main public road-cycling events on 23 August 2026. The official page lists The Race at 112 km with 1700 m of elevation and The Ride at 60 km with 900 m of elevation.
LOCATION:Bratislava
URL:https://sportplan.vercel.app/eu/events/l-etape-slovakia-by-tour-de-france-2026-bratislava-2026-08-22
END:VEVENT
END:VCALENDAR
