BEGIN:VCALENDAR
VERSION:2.0
PRODID:-//SportPlan//Event Calendar//EN
CALSCALE:GREGORIAN
BEGIN:VEVENT
UID:235822dc-5e10-4849-9258-aab461e0dfba@sportplan.local
DTSTAMP:20260425T014803Z
DTSTART;VALUE=DATE:20261004
DTEND;VALUE=DATE:20261005
SUMMARY:Košice Peace Marathon
DESCRIPTION:discovered via Brave web_search on direct World's Marathons Slovakia event pages after queue count review showed Slovakia was still low coverage
LOCATION:Košice\, Slovakia
URL:https://sportplan.vercel.app/eu/events/kosice-peace-marathon-2026-10-04
END:VEVENT
END:VCALENDAR
