BEGIN:VCALENDAR
VERSION:2.0
PRODID:-//SportPlan//Event Calendar//EN
CALSCALE:GREGORIAN
BEGIN:VEVENT
UID:ae2bb0a9-8b3a-4d7c-9d6c-4f3c342c794f@sportplan.local
DTSTAMP:20260425T034932Z
DTSTART;VALUE=DATE:20260719
DTEND;VALUE=DATE:20260720
SUMMARY:King's Cup Pattaya Marathon 2026
DESCRIPTION:King's Cup Pattaya Marathon 2026 is the official Pattaya Marathon road-running event in Pattaya\, Chonburi. The official organizer site identifies it as the Amazing Thailand Pattaya Marathon\, a mass-participation World Athletics standard road race with marathon\, half marathon\, 10 km\, wheelchair\, and family-run formats.
LOCATION:Pattaya\, Chonburi
URL:https://sportplan.vercel.app/eu/events/king-s-cup-pattaya-marathon-2026-pattaya-2026-07-19
END:VEVENT
END:VCALENDAR
