BEGIN:VCALENDAR
VERSION:2.0
PRODID:-//SportPlan//Event Calendar//EN
CALSCALE:GREGORIAN
BEGIN:VEVENT
UID:2970dd02-7ee3-4335-ae29-6adbf8cac88d@sportplan.local
DTSTAMP:20260425T033418Z
DTSTART;VALUE=DATE:20260705
DTEND;VALUE=DATE:20260706
SUMMARY:Kaptagat Forest Challenge
DESCRIPTION:Official Kenya Cycling Race Series event page for Kaptagat Forest Challenge on 2026-07-05 in Kaptagat\, Kenya. Amateur-enterable mountain-bike event.
LOCATION:Kaptagat
URL:https://sportplan.vercel.app/eu/events/kaptagat-forest-challenge-kaptagat-2026-07-05
END:VEVENT
END:VCALENDAR
