BEGIN:VCALENDAR
VERSION:2.0
PRODID:-//SportPlan//Event Calendar//EN
CALSCALE:GREGORIAN
BEGIN:VEVENT
UID:e53059bf-252b-470a-978b-1dc890f8716b@sportplan.local
DTSTAMP:20260425T034816Z
DTSTART;VALUE=DATE:20260704
DTEND;VALUE=DATE:20260705
SUMMARY:KAPONG21 2026 PHANG NGA HALF MARATHON
DESCRIPTION:Verified from rendered event page title and Thai.run-hosted image. Event page text shows 4 July 2026 and on-site race mode. Safe amateur-enterable public registration page. Not found in current TH 2026 dataset query.
LOCATION:Kapong\, Phang Nga\, Thailand
URL:https://sportplan.vercel.app/eu/events/kapong21-2026-phang-nga-half-marathon-2026-07-04
END:VEVENT
END:VCALENDAR
