BEGIN:VCALENDAR
VERSION:2.0
PRODID:-//SportPlan//Event Calendar//EN
CALSCALE:GREGORIAN
BEGIN:VEVENT
UID:18d1c966-81a6-4345-9468-06b5238df3d0@sportplan.local
DTSTAMP:20260425T000636Z
DTSTART;VALUE=DATE:20260425
DTEND;VALUE=DATE:20260426
SUMMARY:Istre'm Race Swimrun Eliminator
DESCRIPTION:Official FFTRI/T2Area fiche lists Istre'm Race Swimrun Eliminator in ISTRES on 2026-04-25 for amateur participants.
LOCATION:Istres
URL:https://sportplan.vercel.app/eu/events/istre-m-race-swimrun-eliminator-istres-2026-04-25
END:VEVENT
END:VCALENDAR
