BEGIN:VCALENDAR
VERSION:2.0
PRODID:-//SportPlan//Event Calendar//EN
CALSCALE:GREGORIAN
BEGIN:VEVENT
UID:53a91803-dd9e-4eb2-b574-c5c8b516786f@sportplan.local
DTSTAMP:20260425T033528Z
DTSTART;VALUE=DATE:20261129
DTEND;VALUE=DATE:20261130
SUMMARY:IRONMAN 70.3 Aracaju-Sergipe 2026
DESCRIPTION:IRONMAN 70.3 Aracaju-Sergipe 2026 is an amateur-participation middle-distance triathlon in Aracaju\, Brazil. The official IRONMAN race page describes a river swim\, a flat bike course\, and a coastal run\, confirming a public age-group participation format rather than a pro-only event.
LOCATION:Aracaju
URL:https://sportplan.vercel.app/eu/events/ironman-70-3-aracaju-sergipe-2026-11-29
END:VEVENT
END:VCALENDAR
