BEGIN:VCALENDAR
VERSION:2.0
PRODID:-//SportPlan//Event Calendar//EN
CALSCALE:GREGORIAN
BEGIN:VEVENT
UID:2e90fb73-3707-4851-a4c3-bfeb88ead8fe@sportplan.local
DTSTAMP:20260425T002228Z
DTSTART;VALUE=DATE:20260607
DTEND;VALUE=DATE:20260608
SUMMARY:III. Kis Tri Triatlon Fesztivál Mix váltó Országos Bajnokság
DESCRIPTION:The official Magyar Triatlon Szövetség race calendar lists the III. Kis Tri Triatlon Fesztivál Mix váltó Országos Bajnokság on 7 June 2026\, and the linked official event site presents the 2026 Kistri Triatlon Fesztivál on 6-7 June 2026 in Ikrény near Győr.
LOCATION:Ikrény\, Győr-Moson-Sopron\, Hungary
URL:https://sportplan.vercel.app/eu/events/iii-kis-tri-triatlon-fesztival-mix-valto-orszagos-bajnoksag-2026-06-07
END:VEVENT
END:VCALENDAR
