BEGIN:VCALENDAR
VERSION:2.0
PRODID:-//SportPlan//Event Calendar//EN
CALSCALE:GREGORIAN
BEGIN:VEVENT
UID:cc2eecbe-3603-45c5-82b6-a5979038bebf@sportplan.local
DTSTAMP:20260425T015249Z
DTSTART;VALUE=DATE:20260927
DTEND;VALUE=DATE:20260928
SUMMARY:I Duatlo de Ourém
DESCRIPTION:Official Federação de Triatlo de Portugal event page for I Duatlo de Ourém. The federation calendar publishes the 2026-09-27 event in Ourém\, supporting conservative inclusion as an official amateur-enterable duathlon entry.
LOCATION:Ourém\, Santarém\, Portugal
URL:https://sportplan.vercel.app/eu/events/i-duatlo-de-ourem-ourem-santarem-portugal-2026-09-27
END:VEVENT
END:VCALENDAR
