BEGIN:VCALENDAR
VERSION:2.0
PRODID:-//SportPlan//Event Calendar//EN
CALSCALE:GREGORIAN
BEGIN:VEVENT
UID:248f372b-05a4-406f-b3f2-1600fb53bc8e@sportplan.local
DTSTAMP:20260425T015310Z
DTSTART;VALUE=DATE:20260919
DTEND;VALUE=DATE:20260921
SUMMARY:HYROX Youngstars Salt Lake City 2026
DESCRIPTION:HYROX Youngstars Salt Lake City 2026 is listed on the official HYROX event page for 19–20 September 2026 in Salt Lake City\, Utah. The official page confirms the Youngstars race weekend and supplies the city event image on the organizer-owned domain.
LOCATION:Salt Lake City\, UT
URL:https://sportplan.vercel.app/eu/events/hyrox-youngstars-salt-lake-city-2026-salt-lake-city-2026-09-19
END:VEVENT
END:VCALENDAR
