BEGIN:VCALENDAR
VERSION:2.0
PRODID:-//SportPlan//Event Calendar//EN
CALSCALE:GREGORIAN
BEGIN:VEVENT
UID:1215a4c1-3810-414a-96c7-141e0e7cf84a@sportplan.local
DTSTAMP:20260425T002128Z
DTSTART;VALUE=DATE:20260503
DTEND;VALUE=DATE:20260504
SUMMARY:HOKA Runaway Sydney Half Marathon 2026
DESCRIPTION:The HOKA Runaway Sydney Half Marathon is a major amateur-friendly 21.1 km road race through central Sydney\, with official event\, course\, and registration information published on the organizer site.
LOCATION:Sydney
URL:https://sportplan.vercel.app/eu/events/hoka-runaway-sydney-half-marathon-2026-sydney-2026-05-03
END:VEVENT
END:VCALENDAR
