BEGIN:VCALENDAR
VERSION:2.0
PRODID:-//SportPlan//Event Calendar//EN
CALSCALE:GREGORIAN
BEGIN:VEVENT
UID:549c7745-d1bc-4b7a-8fa8-e5598766b396@sportplan.local
DTSTAMP:20260424T223328Z
DTSTART;VALUE=DATE:20260411
DTEND;VALUE=DATE:20260412
SUMMARY:Grand Prix Polski w Aquathlonie Kraków
DESCRIPTION:PZTri Grand Prix Polski w Aquathlonie stop listed on the federation calendar with youth\, junior and age-group race distances.
LOCATION:Kraków
URL:https://sportplan.vercel.app/eu/events/grand-prix-polski-w-aquathlonie-krakow-krakow-2026-04-11
END:VEVENT
END:VCALENDAR
