BEGIN:VCALENDAR
VERSION:2.0
PRODID:-//SportPlan//Event Calendar//EN
CALSCALE:GREGORIAN
BEGIN:VEVENT
UID:cf81d42f-9d03-4f7f-a0ba-f621223d4b18@sportplan.local
DTSTAMP:20260424T223322Z
DTSTART;VALUE=DATE:20260314
DTEND;VALUE=DATE:20260315
SUMMARY:Grand Prix Polski w Aquathlonie Bydgoszcz
DESCRIPTION:PZTri Grand Prix Polski w Aquathlonie stop listed on the federation calendar with youth\, junior and age-group race distances.
LOCATION:Bydgoszcz
URL:https://sportplan.vercel.app/eu/events/grand-prix-polski-w-aquathlonie-bydgoszcz-bydgoszcz-2026-03-14
END:VEVENT
END:VCALENDAR
