BEGIN:VCALENDAR
VERSION:2.0
PRODID:-//SportPlan//Event Calendar//EN
CALSCALE:GREGORIAN
BEGIN:VEVENT
UID:43d78e7c-c686-4861-8f49-18ecaf2109e3@sportplan.local
DTSTAMP:20260425T015252Z
DTSTART;VALUE=DATE:20261101
DTEND;VALUE=DATE:20261102
SUMMARY:Garmin Noosa Triathlon 2026
DESCRIPTION:The Garmin Noosa Triathlon is a flagship amateur triathlon in Australia\, with official 2026 date\, distance\, and entry information published by the event organizer.
LOCATION:Noosa Heads Lions Park
URL:https://sportplan.vercel.app/eu/events/garmin-noosa-triathlon-2026-noosa-heads-2026-11-01
END:VEVENT
END:VCALENDAR
