BEGIN:VCALENDAR
VERSION:2.0
PRODID:-//SportPlan//Event Calendar//EN
CALSCALE:GREGORIAN
BEGIN:VEVENT
UID:20bdb2fb-09a6-4005-9984-1cfc53f14040@sportplan.local
DTSTAMP:20260425T000502Z
DTSTART;VALUE=DATE:20260503
DTEND;VALUE=DATE:20260504
SUMMARY:Fuse Triathlon (92)
DESCRIPTION:Official FFTRI/T2Area fiche lists Fuse Triathlon (92) in VILLE-D'AVRAY on 2026-05-03 with S Open formats listed on the official federation fiche.
LOCATION:VILLE-D'AVRAY\, Île-de-France
URL:https://sportplan.vercel.app/eu/events/fuse-triathlon-92-ville-d-avray-2026-05-03
END:VEVENT
END:VCALENDAR
