BEGIN:VCALENDAR
VERSION:2.0
PRODID:-//SportPlan//Event Calendar//EN
CALSCALE:GREGORIAN
BEGIN:VEVENT
UID:aff2b427-f0b9-4169-b514-9650a14f83fc@sportplan.local
DTSTAMP:20260425T014828Z
DTSTART;VALUE=DATE:20260517
DTEND;VALUE=DATE:20260518
SUMMARY:FUN BILLA RUN 2026
DESCRIPTION:FUN BILLA RUN 2026 is an official amateur running relay event in Bratislava\, Slovakia on 17 May 2026. The official BAM organizer page describes it as a fun sports event for all age groups at Štrkovecké jazero in Bratislava\, with public relay disciplines ranging from children's races to a main royal relay.
LOCATION:Štrkovecké jazero\, Bratislava\, Slovakia
URL:https://sportplan.vercel.app/eu/events/fun-billa-run-2026-bratislava-2026-05-17
END:VEVENT
END:VCALENDAR
