BEGIN:VCALENDAR
VERSION:2.0
PRODID:-//SportPlan//Event Calendar//EN
CALSCALE:GREGORIAN
BEGIN:VEVENT
UID:def84db9-c718-4317-b832-4d56e66830cb@sportplan.local
DTSTAMP:20260425T015149Z
DTSTART;VALUE=DATE:20260516
DTEND;VALUE=DATE:20260517
SUMMARY:FS Triathlon Duathlon Championship
DESCRIPTION:Triathlon South Africa's official event page lists the FS Triathlon Duathlon Championship on Saturday 16 May 2026 at Maselspoort\, Free State. Verified on the official Triathlon South Africa event page. Readable event details show date 'Saturday\, 16 May'\, location 'Maselspoort'\, province 'Free State'\, organizer 'Freestate Triathlon'\, and duathlon-related categories. Duplicate check found no 2026 row matching this title or official URL. No official public registration URL or event-specific image was surfaced in this pass.
LOCATION:Maselspoort
URL:https://sportplan.vercel.app/eu/events/fs-triathlon-duathlon-championship-bloemfontein-area-2026-05-16
END:VEVENT
END:VCALENDAR
