BEGIN:VCALENDAR
VERSION:2.0
PRODID:-//SportPlan//Event Calendar//EN
CALSCALE:GREGORIAN
BEGIN:VEVENT
UID:3f096da7-67fa-4326-98b1-829a6483c443@sportplan.local
DTSTAMP:20260425T001228Z
DTSTART;VALUE=DATE:20261221
DTEND;VALUE=DATE:20261222
SUMMARY:Eurosport Mdina 2 Spinola 2026
DESCRIPTION:Eurosport Mdina 2 Spinola 2026 is an official Malta amateur road running event on 21 December 2026. The official organizer page lists the point-to-point Mdina 2 Spinola race with open registration.
LOCATION:Mdina to Spinola
URL:https://sportplan.vercel.app/eu/events/eurosport-mdina-2-spinola-2026-mdina-to-spinola-2026-12-21
END:VEVENT
END:VCALENDAR
