BEGIN:VCALENDAR
VERSION:2.0
PRODID:-//SportPlan//Event Calendar//EN
CALSCALE:GREGORIAN
BEGIN:VEVENT
UID:6acad2f6-d58c-490a-a4a8-6944dbe51e75@sportplan.local
DTSTAMP:20260425T001502Z
DTSTART;VALUE=DATE:20261011
DTEND;VALUE=DATE:20261012
SUMMARY:Eurosport Ladies Running Club 10K 2026
DESCRIPTION:The official Malta Marathon event page lists the 2026 Eurosport Ladies Running Club 10K on Sunday 11 October 2026. The official race and route information page states the amateur 10K road race starts and finishes on Triq Il-Mitjar Ta' San Niklaw on the limits of Siggiewi\, with online registration and full race details provided by the organizer.
LOCATION:Siggiewi\, Malta
URL:https://sportplan.vercel.app/eu/events/eurosport-ladies-running-club-10k-2026-siggiewi-2026-10-11
END:VEVENT
END:VCALENDAR
