BEGIN:VCALENDAR
VERSION:2.0
PRODID:-//SportPlan//Event Calendar//EN
CALSCALE:GREGORIAN
BEGIN:VEVENT
UID:17b3aeaa-0132-4f1a-ae12-6cd04461ea1e@sportplan.local
DTSTAMP:20260425T000550Z
DTSTART;VALUE=DATE:20260509
DTEND;VALUE=DATE:20260510
SUMMARY:EDELROT LANA TROPHÄE
DESCRIPTION:FCI detail page 179068 lists an Amatoriale mountain road race\; categories include all FCI amateurs plus convenzionati and daily-license riders. Exact-title and official-URL Supabase checks returned no matches.
LOCATION:Lana - Passo Palade/Gampenpass (BZ)
URL:https://sportplan.vercel.app/eu/events/edelrot-lana-trophae-lana-2026-05-09
END:VEVENT
END:VCALENDAR
